BEGIN:VCALENDAR
VERSION:2.0
PRODID:icalendar-ruby
CALSCALE:GREGORIAN
BEGIN:VEVENT
DTSTAMP:20260423T124107Z
UID:c7e1a85d-1981-471b-8de9-22b3d4249582
DTSTART;VALUE=DATE:20230203
DESCRIPTION:Property ID# 549511\, Locatoin: On site\, Time: 11:30AM
SUMMARY:Auction for 
END:VEVENT
END:VCALENDAR
